BEGIN:VCALENDAR
VERSION:2.0
PRODID:-//əkoostik hookah - ECPv6.15.20//NONSGML v1.0//EN
CALSCALE:GREGORIAN
METHOD:PUBLISH
X-WR-CALNAME:əkoostik hookah
X-ORIGINAL-URL:https://ekoostik.com
X-WR-CALDESC:Events for əkoostik hookah
REFRESH-INTERVAL;VALUE=DURATION:PT1H
X-Robots-Tag:noindex
X-PUBLISHED-TTL:PT1H
BEGIN:VTIMEZONE
TZID:America/New_York
BEGIN:DAYLIGHT
TZOFFSETFROM:-0500
TZOFFSETTO:-0400
TZNAME:EDT
DTSTART:20150308T070000
END:DAYLIGHT
BEGIN:STANDARD
TZOFFSETFROM:-0400
TZOFFSETTO:-0500
TZNAME:EST
DTSTART:20151101T060000
END:STANDARD
BEGIN:DAYLIGHT
TZOFFSETFROM:-0500
TZOFFSETTO:-0400
TZNAME:EDT
DTSTART:20160313T070000
END:DAYLIGHT
BEGIN:STANDARD
TZOFFSETFROM:-0400
TZOFFSETTO:-0500
TZNAME:EST
DTSTART:20161106T060000
END:STANDARD
BEGIN:DAYLIGHT
TZOFFSETFROM:-0500
TZOFFSETTO:-0400
TZNAME:EDT
DTSTART:20170312T070000
END:DAYLIGHT
BEGIN:STANDARD
TZOFFSETFROM:-0400
TZOFFSETTO:-0500
TZNAME:EST
DTSTART:20171105T060000
END:STANDARD
END:VTIMEZONE
BEGIN:VEVENT
DTSTART;TZID=America/New_York:20160715T210000
DTEND;TZID=America/New_York:20160715T210000
DTSTAMP:20260420T060938
CREATED:20230524T192652Z
LAST-MODIFIED:20230810T163035Z
UID:1203-1468616400-1468616400@ekoostik.com
SUMMARY:Willytown
DESCRIPTION:
URL:https://ekoostik.com/event/willytown-4/
LOCATION:OH
END:VEVENT
BEGIN:VEVENT
DTSTART;TZID=America/New_York:20160716T180000
DTEND;TZID=America/New_York:20160716T180000
DTSTAMP:20260420T060938
CREATED:20230524T192652Z
LAST-MODIFIED:20230810T163035Z
UID:1202-1468692000-1468692000@ekoostik.com
SUMMARY:Private Event
DESCRIPTION:
URL:https://ekoostik.com/event/private-event-4/
LOCATION:OH
END:VEVENT
BEGIN:VEVENT
DTSTART;TZID=America/New_York:20160722T200000
DTEND;TZID=America/New_York:20160724T000000
DTSTAMP:20260420T060938
CREATED:20230524T192652Z
LAST-MODIFIED:20230810T163035Z
UID:1201-1469217600-1469318400@ekoostik.com
SUMMARY:Whispering Sun Summer Jam at Frontier Ranch
DESCRIPTION:
URL:https://ekoostik.com/event/whispering-sun-summer-jam-at-frontier-ranch/
LOCATION:OH
END:VEVENT
BEGIN:VEVENT
DTSTART;TZID=America/New_York:20160729T100000
DTEND;TZID=America/New_York:20160731T000000
DTSTAMP:20260420T060938
CREATED:20230524T192452Z
LAST-MODIFIED:20230810T163035Z
UID:1199-1469786400-1469923200@ekoostik.com
SUMMARY:Nelson Ledges Quarry Park
DESCRIPTION:
URL:https://ekoostik.com/event/nelson-ledges-quarry-park-6/
LOCATION:OH
END:VEVENT
END:VCALENDAR