BEGIN:VCALENDAR
VERSION:2.0
PRODID:-//əkoostik hookah - ECPv6.15.20//NONSGML v1.0//EN
CALSCALE:GREGORIAN
METHOD:PUBLISH
X-ORIGINAL-URL:https://ekoostik.com
X-WR-CALDESC:Events for əkoostik hookah
REFRESH-INTERVAL;VALUE=DURATION:PT1H
X-Robots-Tag:noindex
X-PUBLISHED-TTL:PT1H
BEGIN:VTIMEZONE
TZID:America/New_York
BEGIN:DAYLIGHT
TZOFFSETFROM:-0500
TZOFFSETTO:-0400
TZNAME:EDT
DTSTART:20150308T070000
END:DAYLIGHT
BEGIN:STANDARD
TZOFFSETFROM:-0400
TZOFFSETTO:-0500
TZNAME:EST
DTSTART:20151101T060000
END:STANDARD
BEGIN:DAYLIGHT
TZOFFSETFROM:-0500
TZOFFSETTO:-0400
TZNAME:EDT
DTSTART:20160313T070000
END:DAYLIGHT
BEGIN:STANDARD
TZOFFSETFROM:-0400
TZOFFSETTO:-0500
TZNAME:EST
DTSTART:20161106T060000
END:STANDARD
BEGIN:DAYLIGHT
TZOFFSETFROM:-0500
TZOFFSETTO:-0400
TZNAME:EDT
DTSTART:20170312T070000
END:DAYLIGHT
BEGIN:STANDARD
TZOFFSETFROM:-0400
TZOFFSETTO:-0500
TZNAME:EST
DTSTART:20171105T060000
END:STANDARD
END:VTIMEZONE
BEGIN:VEVENT
DTSTART;TZID=America/New_York:20161021T200000
DTEND;TZID=America/New_York:20161022T000000
DTSTAMP:20260420T142309
CREATED:20230524T192250Z
LAST-MODIFIED:20230810T163002Z
UID:1192-1477080000-1477094400@ekoostik.com
SUMMARY:Hookah in the Hills
DESCRIPTION:
URL:https://ekoostik.com/event/hookah-in-the-hills/
LOCATION:OH
END:VEVENT
BEGIN:VEVENT
DTSTART;TZID=America/New_York:20161027T193000
DTEND;TZID=America/New_York:20161027T193000
DTSTAMP:20260420T142309
CREATED:20230524T192250Z
LAST-MODIFIED:20230810T163002Z
UID:1191-1477596600-1477596600@ekoostik.com
SUMMARY:Musica (Hookahween)
DESCRIPTION:
URL:https://ekoostik.com/event/musica-hookahween/
LOCATION:OH
END:VEVENT
BEGIN:VEVENT
DTSTART;TZID=America/New_York:20161028T193000
DTEND;TZID=America/New_York:20161028T193000
DTSTAMP:20260420T142309
CREATED:20230524T192250Z
LAST-MODIFIED:20230810T163002Z
UID:1190-1477683000-1477683000@ekoostik.com
SUMMARY:Skully's
DESCRIPTION:
URL:https://ekoostik.com/event/skullys-5/
LOCATION:OH
END:VEVENT
BEGIN:VEVENT
DTSTART;TZID=America/New_York:20161029T193000
DTEND;TZID=America/New_York:20161029T193000
DTSTAMP:20260420T142309
CREATED:20230524T192049Z
LAST-MODIFIED:20230810T163002Z
UID:1189-1477769400-1477769400@ekoostik.com
SUMMARY:Civic Music Hall (formerly Realm)
DESCRIPTION:
URL:https://ekoostik.com/event/civic-music-hall-formerly-realm-7/
LOCATION:OH
END:VEVENT
END:VCALENDAR