BEGIN:VCALENDAR
VERSION:2.0
PRODID:-//əkoostik hookah - ECPv6.15.20//NONSGML v1.0//EN
CALSCALE:GREGORIAN
METHOD:PUBLISH
X-WR-CALNAME:əkoostik hookah
X-ORIGINAL-URL:https://ekoostik.com
X-WR-CALDESC:Events for əkoostik hookah
REFRESH-INTERVAL;VALUE=DURATION:PT1H
X-Robots-Tag:noindex
X-PUBLISHED-TTL:PT1H
BEGIN:VTIMEZONE
TZID:America/New_York
BEGIN:DAYLIGHT
TZOFFSETFROM:-0500
TZOFFSETTO:-0400
TZNAME:EDT
DTSTART:20150308T070000
END:DAYLIGHT
BEGIN:STANDARD
TZOFFSETFROM:-0400
TZOFFSETTO:-0500
TZNAME:EST
DTSTART:20151101T060000
END:STANDARD
BEGIN:DAYLIGHT
TZOFFSETFROM:-0500
TZOFFSETTO:-0400
TZNAME:EDT
DTSTART:20160313T070000
END:DAYLIGHT
BEGIN:STANDARD
TZOFFSETFROM:-0400
TZOFFSETTO:-0500
TZNAME:EST
DTSTART:20161106T060000
END:STANDARD
BEGIN:DAYLIGHT
TZOFFSETFROM:-0500
TZOFFSETTO:-0400
TZNAME:EDT
DTSTART:20170312T070000
END:DAYLIGHT
BEGIN:STANDARD
TZOFFSETFROM:-0400
TZOFFSETTO:-0500
TZNAME:EST
DTSTART:20171105T060000
END:STANDARD
END:VTIMEZONE
BEGIN:VEVENT
DTSTART;TZID=America/New_York:20161111T193000
DTEND;TZID=America/New_York:20161111T193000
DTSTAMP:20260420T154110
CREATED:20230524T192049Z
LAST-MODIFIED:20230810T162945Z
UID:1188-1478892600-1478892600@ekoostik.com
SUMMARY:Rex Theater
DESCRIPTION:
URL:https://ekoostik.com/event/rex-theater/
LOCATION:OH
END:VEVENT
BEGIN:VEVENT
DTSTART;TZID=America/New_York:20161112T193000
DTEND;TZID=America/New_York:20161112T193000
DTSTAMP:20260420T154110
CREATED:20230524T192049Z
LAST-MODIFIED:20230810T162945Z
UID:1187-1478979000-1478979000@ekoostik.com
SUMMARY:MVP Bar and Grill
DESCRIPTION:
URL:https://ekoostik.com/event/mvp-bar-and-grill-7/
LOCATION:OH
END:VEVENT
BEGIN:VEVENT
DTSTART;TZID=America/New_York:20161118T193000
DTEND;TZID=America/New_York:20161118T193000
DTSTAMP:20260420T154110
CREATED:20230524T192049Z
LAST-MODIFIED:20230810T162945Z
UID:1186-1479497400-1479497400@ekoostik.com
SUMMARY:The Vogue
DESCRIPTION:
URL:https://ekoostik.com/event/the-vogue/
LOCATION:OH
END:VEVENT
BEGIN:VEVENT
DTSTART;TZID=America/New_York:20161123T203000
DTEND;TZID=America/New_York:20161123T203000
DTSTAMP:20260420T154110
CREATED:20230524T192049Z
LAST-MODIFIED:20230810T162945Z
UID:1185-1479933000-1479933000@ekoostik.com
SUMMARY:Park Street Saloon
DESCRIPTION:
URL:https://ekoostik.com/event/park-street-saloon-5/
LOCATION:OH
END:VEVENT
BEGIN:VEVENT
DTSTART;TZID=America/New_York:20161125T193000
DTEND;TZID=America/New_York:20161125T193000
DTSTAMP:20260420T154110
CREATED:20230524T192034Z
LAST-MODIFIED:20230810T162945Z
UID:1184-1480102200-1480102200@ekoostik.com
SUMMARY:Odeon
DESCRIPTION:
URL:https://ekoostik.com/event/odeon-10/
LOCATION:OH
END:VEVENT
END:VCALENDAR