BEGIN:VCALENDAR
VERSION:2.0
PRODID:-//əkoostik hookah - ECPv6.15.20//NONSGML v1.0//EN
CALSCALE:GREGORIAN
METHOD:PUBLISH
X-ORIGINAL-URL:https://ekoostik.com
X-WR-CALDESC:Events for əkoostik hookah
REFRESH-INTERVAL;VALUE=DURATION:PT1H
X-Robots-Tag:noindex
X-PUBLISHED-TTL:PT1H
BEGIN:VTIMEZONE
TZID:America/New_York
BEGIN:DAYLIGHT
TZOFFSETFROM:-0500
TZOFFSETTO:-0400
TZNAME:EDT
DTSTART:20160313T070000
END:DAYLIGHT
BEGIN:STANDARD
TZOFFSETFROM:-0400
TZOFFSETTO:-0500
TZNAME:EST
DTSTART:20161106T060000
END:STANDARD
BEGIN:DAYLIGHT
TZOFFSETFROM:-0500
TZOFFSETTO:-0400
TZNAME:EDT
DTSTART:20170312T070000
END:DAYLIGHT
BEGIN:STANDARD
TZOFFSETFROM:-0400
TZOFFSETTO:-0500
TZNAME:EST
DTSTART:20171105T060000
END:STANDARD
BEGIN:DAYLIGHT
TZOFFSETFROM:-0500
TZOFFSETTO:-0400
TZNAME:EDT
DTSTART:20180311T070000
END:DAYLIGHT
BEGIN:STANDARD
TZOFFSETFROM:-0400
TZOFFSETTO:-0500
TZNAME:EST
DTSTART:20181104T060000
END:STANDARD
END:VTIMEZONE
BEGIN:VEVENT
DTSTART;TZID=America/New_York:20170203T203000
DTEND;TZID=America/New_York:20170203T203000
DTSTAMP:20260420T200123
CREATED:20230524T191834Z
LAST-MODIFIED:20230810T162911Z
UID:1177-1486153800-1486153800@ekoostik.com
SUMMARY:Oddbody's
DESCRIPTION:
URL:https://ekoostik.com/event/oddbodys-2/
LOCATION:OH
END:VEVENT
BEGIN:VEVENT
DTSTART;TZID=America/New_York:20170204T203000
DTEND;TZID=America/New_York:20170204T203000
DTSTAMP:20260420T200123
CREATED:20230524T191834Z
LAST-MODIFIED:20230810T162911Z
UID:1176-1486240200-1486240200@ekoostik.com
SUMMARY:Thirty One West
DESCRIPTION:
URL:https://ekoostik.com/event/thirty-one-west-12/
LOCATION:OH
END:VEVENT
BEGIN:VEVENT
DTSTART;TZID=America/New_York:20170224T203000
DTEND;TZID=America/New_York:20170224T203000
DTSTAMP:20260420T200123
CREATED:20230524T191834Z
LAST-MODIFIED:20230810T162911Z
UID:1175-1487968200-1487968200@ekoostik.com
SUMMARY:Park Street Saloon
DESCRIPTION:
URL:https://ekoostik.com/event/park-street-saloon-3/
LOCATION:OH
END:VEVENT
BEGIN:VEVENT
DTSTART;TZID=America/New_York:20170225T203000
DTEND;TZID=America/New_York:20170225T203000
DTSTAMP:20260420T200123
CREATED:20230524T191748Z
LAST-MODIFIED:20230810T162911Z
UID:1174-1488054600-1488054600@ekoostik.com
SUMMARY:Old Crow Bar
DESCRIPTION:
URL:https://ekoostik.com/event/old-crow-bar-2/
LOCATION:OH
END:VEVENT
END:VCALENDAR