BEGIN:VCALENDAR
VERSION:2.0
PRODID:-//əkoostik hookah - ECPv6.15.20//NONSGML v1.0//EN
CALSCALE:GREGORIAN
METHOD:PUBLISH
X-WR-CALNAME:əkoostik hookah
X-ORIGINAL-URL:https://ekoostik.com
X-WR-CALDESC:Events for əkoostik hookah
REFRESH-INTERVAL;VALUE=DURATION:PT1H
X-Robots-Tag:noindex
X-PUBLISHED-TTL:PT1H
BEGIN:VTIMEZONE
TZID:America/New_York
BEGIN:DAYLIGHT
TZOFFSETFROM:-0500
TZOFFSETTO:-0400
TZNAME:EDT
DTSTART:20160313T070000
END:DAYLIGHT
BEGIN:STANDARD
TZOFFSETFROM:-0400
TZOFFSETTO:-0500
TZNAME:EST
DTSTART:20161106T060000
END:STANDARD
BEGIN:DAYLIGHT
TZOFFSETFROM:-0500
TZOFFSETTO:-0400
TZNAME:EDT
DTSTART:20170312T070000
END:DAYLIGHT
BEGIN:STANDARD
TZOFFSETFROM:-0400
TZOFFSETTO:-0500
TZNAME:EST
DTSTART:20171105T060000
END:STANDARD
BEGIN:DAYLIGHT
TZOFFSETFROM:-0500
TZOFFSETTO:-0400
TZNAME:EDT
DTSTART:20180311T070000
END:DAYLIGHT
BEGIN:STANDARD
TZOFFSETFROM:-0400
TZOFFSETTO:-0500
TZNAME:EST
DTSTART:20181104T060000
END:STANDARD
END:VTIMEZONE
BEGIN:VEVENT
DTSTART;TZID=America/New_York:20170609T200000
DTEND;TZID=America/New_York:20170609T200000
DTSTAMP:20260421T012654
CREATED:20230524T191502Z
LAST-MODIFIED:20230810T162854Z
UID:1162-1497038400-1497038400@ekoostik.com
SUMMARY:Good People Good Times Festival at Stable Studios
DESCRIPTION:
URL:https://ekoostik.com/event/good-people-good-times-festival-at-stable-studios/
LOCATION:OH
END:VEVENT
BEGIN:VEVENT
DTSTART;TZID=America/New_York:20170610T200000
DTEND;TZID=America/New_York:20170610T200000
DTSTAMP:20260421T012654
CREATED:20230524T191502Z
LAST-MODIFIED:20230810T162854Z
UID:1161-1497124800-1497124800@ekoostik.com
SUMMARY:Goodfellows
DESCRIPTION:
URL:https://ekoostik.com/event/goodfellows-2/
LOCATION:OH
END:VEVENT
BEGIN:VEVENT
DTSTART;TZID=America/New_York:20170623T170000
DTEND;TZID=America/New_York:20170623T170000
DTSTAMP:20260421T012654
CREATED:20230524T191502Z
LAST-MODIFIED:20230810T162854Z
UID:1160-1498237200-1498237200@ekoostik.com
SUMMARY:Comfest
DESCRIPTION:
URL:https://ekoostik.com/event/comfest/
LOCATION:OH
END:VEVENT
BEGIN:VEVENT
DTSTART;TZID=America/New_York:20170623T210000
DTEND;TZID=America/New_York:20170623T210000
DTSTAMP:20260421T012654
CREATED:20230524T191302Z
LAST-MODIFIED:20230810T162854Z
UID:1159-1498251600-1498251600@ekoostik.com
SUMMARY:Park Street Saloon
DESCRIPTION:
URL:https://ekoostik.com/event/park-street-saloon-2/
LOCATION:OH
END:VEVENT
END:VCALENDAR