BEGIN:VCALENDAR
VERSION:2.0
PRODID:-//əkoostik hookah - ECPv6.15.20//NONSGML v1.0//EN
CALSCALE:GREGORIAN
METHOD:PUBLISH
X-WR-CALNAME:əkoostik hookah
X-ORIGINAL-URL:https://ekoostik.com
X-WR-CALDESC:Events for əkoostik hookah
REFRESH-INTERVAL;VALUE=DURATION:PT1H
X-Robots-Tag:noindex
X-PUBLISHED-TTL:PT1H
BEGIN:VTIMEZONE
TZID:America/New_York
BEGIN:DAYLIGHT
TZOFFSETFROM:-0500
TZOFFSETTO:-0400
TZNAME:EDT
DTSTART:20160313T070000
END:DAYLIGHT
BEGIN:STANDARD
TZOFFSETFROM:-0400
TZOFFSETTO:-0500
TZNAME:EST
DTSTART:20161106T060000
END:STANDARD
BEGIN:DAYLIGHT
TZOFFSETFROM:-0500
TZOFFSETTO:-0400
TZNAME:EDT
DTSTART:20170312T070000
END:DAYLIGHT
BEGIN:STANDARD
TZOFFSETFROM:-0400
TZOFFSETTO:-0500
TZNAME:EST
DTSTART:20171105T060000
END:STANDARD
BEGIN:DAYLIGHT
TZOFFSETFROM:-0500
TZOFFSETTO:-0400
TZNAME:EDT
DTSTART:20180311T070000
END:DAYLIGHT
BEGIN:STANDARD
TZOFFSETFROM:-0400
TZOFFSETTO:-0500
TZNAME:EST
DTSTART:20181104T060000
END:STANDARD
END:VTIMEZONE
BEGIN:VEVENT
DTSTART;TZID=America/New_York:20171103T000000
DTEND;TZID=America/New_York:20171103T000000
DTSTAMP:20260421T082634
CREATED:20230524T190846Z
LAST-MODIFIED:20230810T162829Z
UID:1142-1509667200-1509667200@ekoostik.com
SUMMARY:Civic Music Hall (formerly Realm)
DESCRIPTION:
URL:https://ekoostik.com/event/civic-music-hall-formerly-realm-4/
LOCATION:OH
END:VEVENT
BEGIN:VEVENT
DTSTART;TZID=America/New_York:20171104T000000
DTEND;TZID=America/New_York:20171104T000000
DTSTAMP:20260421T082634
CREATED:20230524T190845Z
LAST-MODIFIED:20230810T162829Z
UID:1141-1509753600-1509753600@ekoostik.com
SUMMARY:Oddbody's
DESCRIPTION:
URL:https://ekoostik.com/event/oddbodys/
LOCATION:OH
END:VEVENT
BEGIN:VEVENT
DTSTART;TZID=America/New_York:20171124T000000
DTEND;TZID=America/New_York:20171124T000000
DTSTAMP:20260421T082635
CREATED:20230524T190845Z
LAST-MODIFIED:20230810T162829Z
UID:1140-1511481600-1511481600@ekoostik.com
SUMMARY:Odeon
DESCRIPTION:
URL:https://ekoostik.com/event/odeon-8/
LOCATION:OH
END:VEVENT
END:VCALENDAR