BEGIN:VCALENDAR
VERSION:2.0
PRODID:-//əkoostik hookah - ECPv6.15.20//NONSGML v1.0//EN
CALSCALE:GREGORIAN
METHOD:PUBLISH
X-ORIGINAL-URL:https://ekoostik.com
X-WR-CALDESC:Events for əkoostik hookah
REFRESH-INTERVAL;VALUE=DURATION:PT1H
X-Robots-Tag:noindex
X-PUBLISHED-TTL:PT1H
BEGIN:VTIMEZONE
TZID:America/New_York
BEGIN:DAYLIGHT
TZOFFSETFROM:-0500
TZOFFSETTO:-0400
TZNAME:EDT
DTSTART:20170312T070000
END:DAYLIGHT
BEGIN:STANDARD
TZOFFSETFROM:-0400
TZOFFSETTO:-0500
TZNAME:EST
DTSTART:20171105T060000
END:STANDARD
BEGIN:DAYLIGHT
TZOFFSETFROM:-0500
TZOFFSETTO:-0400
TZNAME:EDT
DTSTART:20180311T070000
END:DAYLIGHT
BEGIN:STANDARD
TZOFFSETFROM:-0400
TZOFFSETTO:-0500
TZNAME:EST
DTSTART:20181104T060000
END:STANDARD
BEGIN:DAYLIGHT
TZOFFSETFROM:-0500
TZOFFSETTO:-0400
TZNAME:EDT
DTSTART:20190310T070000
END:DAYLIGHT
BEGIN:STANDARD
TZOFFSETFROM:-0400
TZOFFSETTO:-0500
TZNAME:EST
DTSTART:20191103T060000
END:STANDARD
END:VTIMEZONE
BEGIN:VEVENT
DTSTART;TZID=America/New_York:20180707T210000
DTEND;TZID=America/New_York:20180707T210000
DTSTAMP:20260423T112901
CREATED:20230524T190731Z
LAST-MODIFIED:20230810T162746Z
UID:1118-1530997200-1530997200@ekoostik.com
SUMMARY:Wyanstock
DESCRIPTION:
URL:https://ekoostik.com/event/wyanstock/
LOCATION:OH
END:VEVENT
BEGIN:VEVENT
DTSTART;TZID=America/New_York:20180720T000000
DTEND;TZID=America/New_York:20180720T000000
DTSTAMP:20260423T112901
CREATED:20230524T190731Z
LAST-MODIFIED:20230810T162746Z
UID:1117-1532044800-1532044800@ekoostik.com
SUMMARY:Wings
DESCRIPTION:
URL:https://ekoostik.com/event/wings/
LOCATION:OH
END:VEVENT
BEGIN:VEVENT
DTSTART;TZID=America/New_York:20180721T000000
DTEND;TZID=America/New_York:20180721T000000
DTSTAMP:20260423T112901
CREATED:20230524T190730Z
LAST-MODIFIED:20230810T162745Z
UID:1116-1532131200-1532131200@ekoostik.com
SUMMARY:Jamgrass
DESCRIPTION:
URL:https://ekoostik.com/event/jamgrass/
LOCATION:OH
END:VEVENT
BEGIN:VEVENT
DTSTART;TZID=America/New_York:20180727T000000
DTEND;TZID=America/New_York:20180727T000000
DTSTAMP:20260423T112901
CREATED:20230524T190730Z
LAST-MODIFIED:20230810T162745Z
UID:1115-1532649600-1532649600@ekoostik.com
SUMMARY:Civic Music Hall (formerly Realm)
DESCRIPTION:
URL:https://ekoostik.com/event/civic-music-hall-formerly-realm-2/
LOCATION:OH
END:VEVENT
BEGIN:VEVENT
DTSTART;TZID=America/New_York:20180728T000000
DTEND;TZID=America/New_York:20180728T000000
DTSTAMP:20260423T112901
CREATED:20230524T185323Z
LAST-MODIFIED:20230810T162745Z
UID:1114-1532736000-1532736000@ekoostik.com
SUMMARY:The Gathering at Chaffee's
DESCRIPTION:
URL:https://ekoostik.com/event/the-gathering-at-chaffees-3/
LOCATION:OH
END:VEVENT
END:VCALENDAR