BEGIN:VCALENDAR
VERSION:2.0
PRODID:-//əkoostik hookah - ECPv6.15.20//NONSGML v1.0//EN
CALSCALE:GREGORIAN
METHOD:PUBLISH
X-WR-CALNAME:əkoostik hookah
X-ORIGINAL-URL:https://ekoostik.com
X-WR-CALDESC:Events for əkoostik hookah
REFRESH-INTERVAL;VALUE=DURATION:PT1H
X-Robots-Tag:noindex
X-PUBLISHED-TTL:PT1H
BEGIN:VTIMEZONE
TZID:America/New_York
BEGIN:DAYLIGHT
TZOFFSETFROM:-0500
TZOFFSETTO:-0400
TZNAME:EDT
DTSTART:20180311T070000
END:DAYLIGHT
BEGIN:STANDARD
TZOFFSETFROM:-0400
TZOFFSETTO:-0500
TZNAME:EST
DTSTART:20181104T060000
END:STANDARD
BEGIN:DAYLIGHT
TZOFFSETFROM:-0500
TZOFFSETTO:-0400
TZNAME:EDT
DTSTART:20190310T070000
END:DAYLIGHT
BEGIN:STANDARD
TZOFFSETFROM:-0400
TZOFFSETTO:-0500
TZNAME:EST
DTSTART:20191103T060000
END:STANDARD
BEGIN:DAYLIGHT
TZOFFSETFROM:-0500
TZOFFSETTO:-0400
TZNAME:EDT
DTSTART:20200308T070000
END:DAYLIGHT
BEGIN:STANDARD
TZOFFSETFROM:-0400
TZOFFSETTO:-0500
TZNAME:EST
DTSTART:20201101T060000
END:STANDARD
END:VTIMEZONE
BEGIN:VEVENT
DTSTART;TZID=America/New_York:20190503T000000
DTEND;TZID=America/New_York:20190503T000000
DTSTAMP:20260424T001621
CREATED:20230524T184505Z
LAST-MODIFIED:20230810T162637Z
UID:1089-1556841600-1556841600@ekoostik.com
SUMMARY:The Union
DESCRIPTION:
URL:https://ekoostik.com/event/the-union/
LOCATION:OH
END:VEVENT
BEGIN:VEVENT
DTSTART;TZID=America/New_York:20190504T000000
DTEND;TZID=America/New_York:20190504T000000
DTSTAMP:20260424T001621
CREATED:20230524T184505Z
LAST-MODIFIED:20230810T162622Z
UID:1088-1556928000-1556928000@ekoostik.com
SUMMARY:Thirty One West
DESCRIPTION:
URL:https://ekoostik.com/event/thirty-one-west-7/
LOCATION:OH
END:VEVENT
BEGIN:VEVENT
DTSTART;TZID=America/New_York:20190517T000000
DTEND;TZID=America/New_York:20190519T000000
DTSTAMP:20260424T001621
CREATED:20230524T184505Z
LAST-MODIFIED:20230810T162622Z
UID:1087-1558051200-1558224000@ekoostik.com
SUMMARY:Hookahville at Brushy Fork Family Ranch
DESCRIPTION:
URL:https://ekoostik.com/event/hookahville-at-brushy-fork-family-ranch-4/
LOCATION:OH
END:VEVENT
BEGIN:VEVENT
DTSTART;TZID=America/New_York:20190529T000000
DTEND;TZID=America/New_York:20190529T000000
DTSTAMP:20260424T001621
CREATED:20230524T184505Z
LAST-MODIFIED:20230810T162622Z
UID:1086-1559088000-1559088000@ekoostik.com
SUMMARY:Barrel House Saloon (Bike Week)
DESCRIPTION:
URL:https://ekoostik.com/event/barrel-house-saloon-bike-week-2/
LOCATION:OH
END:VEVENT
END:VCALENDAR