BEGIN:VCALENDAR
VERSION:2.0
PRODID:-//əkoostik hookah - ECPv6.15.20//NONSGML v1.0//EN
CALSCALE:GREGORIAN
METHOD:PUBLISH
X-ORIGINAL-URL:https://ekoostik.com
X-WR-CALDESC:Events for əkoostik hookah
REFRESH-INTERVAL;VALUE=DURATION:PT1H
X-Robots-Tag:noindex
X-PUBLISHED-TTL:PT1H
BEGIN:VTIMEZONE
TZID:America/New_York
BEGIN:DAYLIGHT
TZOFFSETFROM:-0500
TZOFFSETTO:-0400
TZNAME:EDT
DTSTART:20190310T070000
END:DAYLIGHT
BEGIN:STANDARD
TZOFFSETFROM:-0400
TZOFFSETTO:-0500
TZNAME:EST
DTSTART:20191103T060000
END:STANDARD
BEGIN:DAYLIGHT
TZOFFSETFROM:-0500
TZOFFSETTO:-0400
TZNAME:EDT
DTSTART:20200308T070000
END:DAYLIGHT
BEGIN:STANDARD
TZOFFSETFROM:-0400
TZOFFSETTO:-0500
TZNAME:EST
DTSTART:20201101T060000
END:STANDARD
BEGIN:DAYLIGHT
TZOFFSETFROM:-0500
TZOFFSETTO:-0400
TZNAME:EDT
DTSTART:20210314T070000
END:DAYLIGHT
BEGIN:STANDARD
TZOFFSETFROM:-0400
TZOFFSETTO:-0500
TZNAME:EST
DTSTART:20211107T060000
END:STANDARD
END:VTIMEZONE
BEGIN:VEVENT
DTSTART;TZID=America/New_York:20200208T000000
DTEND;TZID=America/New_York:20200208T000000
DTSTAMP:20260424T001651
CREATED:20230524T181017Z
LAST-MODIFIED:20230810T162244Z
UID:1065-1581120000-1581120000@ekoostik.com
SUMMARY:Bluestone
DESCRIPTION:
URL:https://ekoostik.com/event/bluestone/
LOCATION:OH
END:VEVENT
BEGIN:VEVENT
DTSTART;TZID=America/New_York:20200228T000000
DTEND;TZID=America/New_York:20200228T000000
DTSTAMP:20260424T001651
CREATED:20230524T180817Z
LAST-MODIFIED:20230810T162244Z
UID:1064-1582848000-1582848000@ekoostik.com
SUMMARY:Brightside
DESCRIPTION:
URL:https://ekoostik.com/event/brightside-3/
LOCATION:OH
END:VEVENT
END:VCALENDAR