BEGIN:VCALENDAR
VERSION:2.0
PRODID:-//əkoostik hookah - ECPv6.15.20//NONSGML v1.0//EN
CALSCALE:GREGORIAN
METHOD:PUBLISH
X-ORIGINAL-URL:https://ekoostik.com
X-WR-CALDESC:Events for əkoostik hookah
REFRESH-INTERVAL;VALUE=DURATION:PT1H
X-Robots-Tag:noindex
X-PUBLISHED-TTL:PT1H
BEGIN:VTIMEZONE
TZID:America/New_York
BEGIN:DAYLIGHT
TZOFFSETFROM:-0500
TZOFFSETTO:-0400
TZNAME:EDT
DTSTART:20200308T070000
END:DAYLIGHT
BEGIN:STANDARD
TZOFFSETFROM:-0400
TZOFFSETTO:-0500
TZNAME:EST
DTSTART:20201101T060000
END:STANDARD
BEGIN:DAYLIGHT
TZOFFSETFROM:-0500
TZOFFSETTO:-0400
TZNAME:EDT
DTSTART:20210314T070000
END:DAYLIGHT
BEGIN:STANDARD
TZOFFSETFROM:-0400
TZOFFSETTO:-0500
TZNAME:EST
DTSTART:20211107T060000
END:STANDARD
BEGIN:DAYLIGHT
TZOFFSETFROM:-0500
TZOFFSETTO:-0400
TZNAME:EDT
DTSTART:20220313T070000
END:DAYLIGHT
BEGIN:STANDARD
TZOFFSETFROM:-0400
TZOFFSETTO:-0500
TZNAME:EST
DTSTART:20221106T060000
END:STANDARD
END:VTIMEZONE
BEGIN:VEVENT
DTSTART;TZID=America/New_York:20210904T000000
DTEND;TZID=America/New_York:20210905T000000
DTSTAMP:20260421T085254
CREATED:20230524T180251Z
LAST-MODIFIED:20230810T155350Z
UID:1043-1630713600-1630800000@ekoostik.com
SUMMARY:Hookahville at Brushy Fork Family Ranch
DESCRIPTION:
URL:https://ekoostik.com/event/hookahville-at-brushy-fork-family-ranch/
LOCATION:OH
END:VEVENT
BEGIN:VEVENT
DTSTART;TZID=America/New_York:20210925T000000
DTEND;TZID=America/New_York:20210925T000000
DTSTAMP:20260421T085254
CREATED:20230524T180251Z
LAST-MODIFIED:20230810T155350Z
UID:1042-1632528000-1632528000@ekoostik.com
SUMMARY:Sacred Harvest Music Festival Pre-Party
DESCRIPTION:
URL:https://ekoostik.com/event/sacred-harvest-music-festival-pre-party/
LOCATION:OH
END:VEVENT
END:VCALENDAR